BEGIN:VCALENDAR
VERSION:2.0
PRODID:-//Dalriada Mid Argyll Church - ECPv6.15.20//NONSGML v1.0//EN
CALSCALE:GREGORIAN
METHOD:PUBLISH
X-WR-CALNAME:Dalriada Mid Argyll Church
X-ORIGINAL-URL:https://dalriadamidargyllchurch.org.uk
X-WR-CALDESC:Events for Dalriada Mid Argyll Church
REFRESH-INTERVAL;VALUE=DURATION:PT1H
X-Robots-Tag:noindex
X-PUBLISHED-TTL:PT1H
BEGIN:VTIMEZONE
TZID:Europe/London
BEGIN:DAYLIGHT
TZOFFSETFROM:+0000
TZOFFSETTO:+0100
TZNAME:BST
DTSTART:20250330T010000
END:DAYLIGHT
BEGIN:STANDARD
TZOFFSETFROM:+0100
TZOFFSETTO:+0000
TZNAME:GMT
DTSTART:20251026T010000
END:STANDARD
BEGIN:DAYLIGHT
TZOFFSETFROM:+0000
TZOFFSETTO:+0100
TZNAME:BST
DTSTART:20260329T010000
END:DAYLIGHT
BEGIN:STANDARD
TZOFFSETFROM:+0100
TZOFFSETTO:+0000
TZNAME:GMT
DTSTART:20261025T010000
END:STANDARD
BEGIN:DAYLIGHT
TZOFFSETFROM:+0000
TZOFFSETTO:+0100
TZNAME:BST
DTSTART:20270328T010000
END:DAYLIGHT
BEGIN:STANDARD
TZOFFSETFROM:+0100
TZOFFSETTO:+0000
TZNAME:GMT
DTSTART:20271031T010000
END:STANDARD
END:VTIMEZONE
BEGIN:VEVENT
DTSTART;TZID=Europe/London:20260426T100000
DTEND;TZID=Europe/London:20260426T110000
DTSTAMP:20260421T132150
CREATED:20260303T091020Z
LAST-MODIFIED:20260303T091020Z
UID:5557-1777197600-1777201200@dalriadamidargyllchurch.org.uk
SUMMARY:Service in Ardrishaig Church
DESCRIPTION:Morning Worship in Ardrishaig Church at 10.00 am.
URL:https://dalriadamidargyllchurch.org.uk/event/service-in-ardrishaig-church-27/
LOCATION:Ardrishaig Church\, Tarbert Road\, Ardrishaig\, Argyll & Bute\, PA30 8EF\, United Kingdom
CATEGORIES:Church Event,Church Service
ATTACH;FMTTYPE=image/webp:https://dalriadamidargyllchurch.org.uk/wp-content/uploads/2024/10/Ardrishaig-Events.webp
END:VEVENT
BEGIN:VEVENT
DTSTART;TZID=Europe/London:20260426T113000
DTEND;TZID=Europe/London:20260426T123000
DTSTAMP:20260421T132150
CREATED:20260303T091208Z
LAST-MODIFIED:20260303T091208Z
UID:5559-1777203000-1777206600@dalriadamidargyllchurch.org.uk
SUMMARY:Service in Kilmartin Church
DESCRIPTION:Morning Worship in Kilmartin Church at 11.30 am.
URL:https://dalriadamidargyllchurch.org.uk/event/service-in-kilmartin-church-26/
LOCATION:Kilmartin Church\, 1 Barrmor View\, Kilmartin\, Argyll & Bute\, PA31 8UN\, United Kingdom
CATEGORIES:Church Event,Church Service
ATTACH;FMTTYPE=image/webp:https://dalriadamidargyllchurch.org.uk/wp-content/uploads/2024/10/Kilmartin-Events.webp
END:VEVENT
BEGIN:VEVENT
DTSTART;TZID=Europe/London:20260503T110000
DTEND;TZID=Europe/London:20260503T120000
DTSTAMP:20260421T132150
CREATED:20260303T091548Z
LAST-MODIFIED:20260303T091548Z
UID:5561-1777806000-1777809600@dalriadamidargyllchurch.org.uk
SUMMARY:Service in Achahoish Church
DESCRIPTION:Morning Worship in Achahoish Church at 11.00 am.
URL:https://dalriadamidargyllchurch.org.uk/event/service-in-achahoish-church-25/
LOCATION:Achahoish Church\, Achahoish\, Lochgilphead PA31 8PD\, Lochgilphead\, Argyll & Bute\, PA31 8PD\, United Kingdom
CATEGORIES:Church Event,Church Service
ATTACH;FMTTYPE=image/jpeg:https://dalriadamidargyllchurch.org.uk/wp-content/uploads/2023/09/Southsm.jpg
END:VEVENT
BEGIN:VEVENT
DTSTART;TZID=Europe/London:20260510T100000
DTEND;TZID=Europe/London:20260510T110000
DTSTAMP:20260421T132150
CREATED:20260303T091801Z
LAST-MODIFIED:20260303T091801Z
UID:5563-1778407200-1778410800@dalriadamidargyllchurch.org.uk
SUMMARY:Service in Lochgilphead Church
DESCRIPTION:Morning Worship in Lochgilphead Church at 10.00 am.
URL:https://dalriadamidargyllchurch.org.uk/event/service-in-lochgilphead-church-24/
LOCATION:Lochgilphead Church\, Oban Rd\, Lochgilphead\, Argyll & Bute\, PA31 8NE\, United Kingdom
CATEGORIES:Church Event,Church Service
ATTACH;FMTTYPE=image/webp:https://dalriadamidargyllchurch.org.uk/wp-content/uploads/2024/10/Lochgilphead-Events-tKJhUj.tmp_.webp
END:VEVENT
BEGIN:VEVENT
DTSTART;TZID=Europe/London:20260510T113000
DTEND;TZID=Europe/London:20260510T123000
DTSTAMP:20260421T132150
CREATED:20260303T091957Z
LAST-MODIFIED:20260303T091957Z
UID:5565-1778412600-1778416200@dalriadamidargyllchurch.org.uk
SUMMARY:Service in Kilmartin Church
DESCRIPTION:Morning Worship in Kilmartin Church at 11.30 am.
URL:https://dalriadamidargyllchurch.org.uk/event/service-in-kilmartin-church-27/
LOCATION:Kilmartin Church\, 1 Barrmor View\, Kilmartin\, Argyll & Bute\, PA31 8UN\, United Kingdom
CATEGORIES:Church Event,Church Service
ATTACH;FMTTYPE=image/webp:https://dalriadamidargyllchurch.org.uk/wp-content/uploads/2024/10/Kilmartin-Events.webp
END:VEVENT
BEGIN:VEVENT
DTSTART;TZID=Europe/London:20260517T110000
DTEND;TZID=Europe/London:20260517T120000
DTSTAMP:20260421T132150
CREATED:20260303T092153Z
LAST-MODIFIED:20260303T092153Z
UID:5567-1779015600-1779019200@dalriadamidargyllchurch.org.uk
SUMMARY:Service in Ardrishaig Church
DESCRIPTION:Morning Worship in Ardrishaig Church at 11.00 am.  Holy Communion.
URL:https://dalriadamidargyllchurch.org.uk/event/service-in-ardrishaig-church-28/
LOCATION:Ardrishaig Church\, Tarbert Road\, Ardrishaig\, Argyll & Bute\, PA30 8EF\, United Kingdom
CATEGORIES:Church Event,Church Service,Holy Communion
ATTACH;FMTTYPE=image/webp:https://dalriadamidargyllchurch.org.uk/wp-content/uploads/2024/10/Ardrishaig-Events.webp
END:VEVENT
BEGIN:VEVENT
DTSTART;TZID=Europe/London:20260524T110000
DTEND;TZID=Europe/London:20260524T120000
DTSTAMP:20260421T132150
CREATED:20260303T092338Z
LAST-MODIFIED:20260303T092338Z
UID:5569-1779620400-1779624000@dalriadamidargyllchurch.org.uk
SUMMARY:Service in Tayvallich Church
DESCRIPTION:Morning Worship in Tayvallich Church at 11.00 am.
URL:https://dalriadamidargyllchurch.org.uk/event/service-in-tayvallich-church-24/
LOCATION:Tayvallich Church\, 2 Kenovay\, Tayvallich\, Argyll & Bute\, PA31 8PJ\, United Kingdom
CATEGORIES:Church Event,Church Service
ATTACH;FMTTYPE=image/webp:https://dalriadamidargyllchurch.org.uk/wp-content/uploads/2024/10/Tayvallich-Events.webp
END:VEVENT
BEGIN:VEVENT
DTSTART;TZID=Europe/London:20260531T100000
DTEND;TZID=Europe/London:20260531T110000
DTSTAMP:20260421T132150
CREATED:20260303T092547Z
LAST-MODIFIED:20260303T092547Z
UID:5571-1780221600-1780225200@dalriadamidargyllchurch.org.uk
SUMMARY:Service in Kilmartin Church
DESCRIPTION:Morning Worship in Kilmartin Church at 10.00 am.
URL:https://dalriadamidargyllchurch.org.uk/event/service-in-kilmartin-church-28/
LOCATION:Kilmartin Church\, 1 Barrmor View\, Kilmartin\, Argyll & Bute\, PA31 8UN\, United Kingdom
CATEGORIES:Church Event,Church Service
ATTACH;FMTTYPE=image/webp:https://dalriadamidargyllchurch.org.uk/wp-content/uploads/2024/10/Kilmartin-Events.webp
END:VEVENT
BEGIN:VEVENT
DTSTART;TZID=Europe/London:20260531T113000
DTEND;TZID=Europe/London:20260531T123000
DTSTAMP:20260421T132150
CREATED:20260303T092733Z
LAST-MODIFIED:20260303T092733Z
UID:5573-1780227000-1780230600@dalriadamidargyllchurch.org.uk
SUMMARY:Service in Lochgilphead Church
DESCRIPTION:Morning Worship in Lochgilphead Church at 11.30 am.
URL:https://dalriadamidargyllchurch.org.uk/event/service-in-lochgilphead-church-25/
LOCATION:Lochgilphead Church\, Oban Rd\, Lochgilphead\, Argyll & Bute\, PA31 8NE\, United Kingdom
CATEGORIES:Church Event,Church Service
ATTACH;FMTTYPE=image/webp:https://dalriadamidargyllchurch.org.uk/wp-content/uploads/2024/10/Lochgilphead-Events-tKJhUj.tmp_.webp
END:VEVENT
BEGIN:VEVENT
DTSTART;TZID=Europe/London:20260607T100000
DTEND;TZID=Europe/London:20260607T110000
DTSTAMP:20260421T132150
CREATED:20260303T092926Z
LAST-MODIFIED:20260303T092926Z
UID:5575-1780826400-1780830000@dalriadamidargyllchurch.org.uk
SUMMARY:Service in Ardrishaig Church
DESCRIPTION:Morning Worship in Ardrishaig Church at 10.00 am.
URL:https://dalriadamidargyllchurch.org.uk/event/service-in-ardrishaig-church-29/
LOCATION:Ardrishaig Church\, Tarbert Road\, Ardrishaig\, Argyll & Bute\, PA30 8EF\, United Kingdom
CATEGORIES:Church Event,Church Service
ATTACH;FMTTYPE=image/webp:https://dalriadamidargyllchurch.org.uk/wp-content/uploads/2024/10/Ardrishaig-Events.webp
END:VEVENT
BEGIN:VEVENT
DTSTART;TZID=Europe/London:20260607T113000
DTEND;TZID=Europe/London:20260607T123000
DTSTAMP:20260421T132150
CREATED:20260303T093232Z
LAST-MODIFIED:20260303T093232Z
UID:5577-1780831800-1780835400@dalriadamidargyllchurch.org.uk
SUMMARY:Service in Achahoish Church
DESCRIPTION:Morning Worship in Achahoish Church at 11.30 am.
URL:https://dalriadamidargyllchurch.org.uk/event/service-in-achahoish-church-26/
LOCATION:Achahoish Church\, Achahoish\, Lochgilphead PA31 8PD\, Lochgilphead\, Argyll & Bute\, PA31 8PD\, United Kingdom
CATEGORIES:Church Event,Church Service
ATTACH;FMTTYPE=image/jpeg:https://dalriadamidargyllchurch.org.uk/wp-content/uploads/2023/09/Southsm.jpg
END:VEVENT
BEGIN:VEVENT
DTSTART;TZID=Europe/London:20260614T110000
DTEND;TZID=Europe/London:20260614T120000
DTSTAMP:20260421T132150
CREATED:20260303T093416Z
LAST-MODIFIED:20260303T093416Z
UID:5579-1781434800-1781438400@dalriadamidargyllchurch.org.uk
SUMMARY:Service in Lochgilphead Church
DESCRIPTION:Morning Worship in Lochgilphead Church at 11.00 am.
URL:https://dalriadamidargyllchurch.org.uk/event/service-in-lochgilphead-church-26/
LOCATION:Lochgilphead Church\, Oban Rd\, Lochgilphead\, Argyll & Bute\, PA31 8NE\, United Kingdom
CATEGORIES:Church Event,Church Service
ATTACH;FMTTYPE=image/webp:https://dalriadamidargyllchurch.org.uk/wp-content/uploads/2024/10/Lochgilphead-Events-tKJhUj.tmp_.webp
END:VEVENT
BEGIN:VEVENT
DTSTART;TZID=Europe/London:20260621T100000
DTEND;TZID=Europe/London:20260621T110000
DTSTAMP:20260421T132150
CREATED:20260303T093548Z
LAST-MODIFIED:20260303T093548Z
UID:5581-1782036000-1782039600@dalriadamidargyllchurch.org.uk
SUMMARY:Service in Tayvallich Church
DESCRIPTION:Morning Worship in Tayvallich Church at 10.00 am.
URL:https://dalriadamidargyllchurch.org.uk/event/service-in-tayvallich-church-25/
LOCATION:Tayvallich Church\, 2 Kenovay\, Tayvallich\, Argyll & Bute\, PA31 8PJ\, United Kingdom
CATEGORIES:Church Event,Church Service
ATTACH;FMTTYPE=image/webp:https://dalriadamidargyllchurch.org.uk/wp-content/uploads/2024/10/Tayvallich-Events.webp
END:VEVENT
BEGIN:VEVENT
DTSTART;TZID=Europe/London:20260621T113000
DTEND;TZID=Europe/London:20260621T123000
DTSTAMP:20260421T132150
CREATED:20260303T093739Z
LAST-MODIFIED:20260303T093739Z
UID:5583-1782041400-1782045000@dalriadamidargyllchurch.org.uk
SUMMARY:Service in Kilmartin Church
DESCRIPTION:Morning Worship in Kilmartin Church at 11.30 am.
URL:https://dalriadamidargyllchurch.org.uk/event/service-in-kilmartin-church-29/
LOCATION:Kilmartin Church\, 1 Barrmor View\, Kilmartin\, Argyll & Bute\, PA31 8UN\, United Kingdom
CATEGORIES:Church Event,Church Service
ATTACH;FMTTYPE=image/webp:https://dalriadamidargyllchurch.org.uk/wp-content/uploads/2024/10/Kilmartin-Events.webp
END:VEVENT
BEGIN:VEVENT
DTSTART;TZID=Europe/London:20260628T100000
DTEND;TZID=Europe/London:20260628T110000
DTSTAMP:20260421T132150
CREATED:20260303T093938Z
LAST-MODIFIED:20260303T093938Z
UID:5585-1782640800-1782644400@dalriadamidargyllchurch.org.uk
SUMMARY:Service in Achahoish Church
DESCRIPTION:Morning Worship in Achahoish Church at 10.00 am.
URL:https://dalriadamidargyllchurch.org.uk/event/service-in-achahoish-church-27/
LOCATION:Achahoish Church\, Achahoish\, Lochgilphead PA31 8PD\, Lochgilphead\, Argyll & Bute\, PA31 8PD\, United Kingdom
CATEGORIES:Church Event,Church Service
ATTACH;FMTTYPE=image/jpeg:https://dalriadamidargyllchurch.org.uk/wp-content/uploads/2023/09/Southsm.jpg
END:VEVENT
BEGIN:VEVENT
DTSTART;TZID=Europe/London:20260628T113000
DTEND;TZID=Europe/London:20260628T123000
DTSTAMP:20260421T132150
CREATED:20260303T094118Z
LAST-MODIFIED:20260303T094118Z
UID:5587-1782646200-1782649800@dalriadamidargyllchurch.org.uk
SUMMARY:Service in Ardrishaig Church
DESCRIPTION:Morning Worship in Ardrishaig Church at 11.30 am.
URL:https://dalriadamidargyllchurch.org.uk/event/service-in-ardrishaig-church-30/
LOCATION:Ardrishaig Church\, Tarbert Road\, Ardrishaig\, Argyll & Bute\, PA30 8EF\, United Kingdom
CATEGORIES:Church Event,Church Service
ATTACH;FMTTYPE=image/webp:https://dalriadamidargyllchurch.org.uk/wp-content/uploads/2024/10/Ardrishaig-Events.webp
END:VEVENT
END:VCALENDAR