BEGIN:VCALENDAR
VERSION:2.0
PRODID:-//Dalriada Mid Argyll Church - ECPv6.15.20//NONSGML v1.0//EN
CALSCALE:GREGORIAN
METHOD:PUBLISH
X-WR-CALNAME:Dalriada Mid Argyll Church
X-ORIGINAL-URL:https://dalriadamidargyllchurch.org.uk
X-WR-CALDESC:Events for Dalriada Mid Argyll Church
REFRESH-INTERVAL;VALUE=DURATION:PT1H
X-Robots-Tag:noindex
X-PUBLISHED-TTL:PT1H
BEGIN:VTIMEZONE
TZID:Europe/London
BEGIN:DAYLIGHT
TZOFFSETFROM:+0000
TZOFFSETTO:+0100
TZNAME:BST
DTSTART:20240331T010000
END:DAYLIGHT
BEGIN:STANDARD
TZOFFSETFROM:+0100
TZOFFSETTO:+0000
TZNAME:GMT
DTSTART:20241027T010000
END:STANDARD
BEGIN:DAYLIGHT
TZOFFSETFROM:+0000
TZOFFSETTO:+0100
TZNAME:BST
DTSTART:20250330T010000
END:DAYLIGHT
BEGIN:STANDARD
TZOFFSETFROM:+0100
TZOFFSETTO:+0000
TZNAME:GMT
DTSTART:20251026T010000
END:STANDARD
BEGIN:DAYLIGHT
TZOFFSETFROM:+0000
TZOFFSETTO:+0100
TZNAME:BST
DTSTART:20260329T010000
END:DAYLIGHT
BEGIN:STANDARD
TZOFFSETFROM:+0100
TZOFFSETTO:+0000
TZNAME:GMT
DTSTART:20261025T010000
END:STANDARD
END:VTIMEZONE
BEGIN:VEVENT
DTSTART;TZID=Europe/London:20251026T113000
DTEND;TZID=Europe/London:20251026T123000
DTSTAMP:20260419T133305
CREATED:20250906T092743Z
LAST-MODIFIED:20250906T092743Z
UID:5366-1761478200-1761481800@dalriadamidargyllchurch.org.uk
SUMMARY:Service in Tayvallich Church
DESCRIPTION:Morning Worship at 11.30 am.
URL:https://dalriadamidargyllchurch.org.uk/event/service-in-tayvallich-church-16/
LOCATION:Tayvallich Church\, 2 Kenovay\, Tayvallich\, Argyll & Bute\, PA31 8PJ\, United Kingdom
CATEGORIES:Church Event,Church Service
ATTACH;FMTTYPE=image/webp:https://dalriadamidargyllchurch.org.uk/wp-content/uploads/2024/10/Tayvallich-Events-kouwRm.tmp_.webp
ORGANIZER;CN="Rev David Carruthers":MAILTO:minister@dalriadamidargyll.org.uk
END:VEVENT
END:VCALENDAR